BEGIN:VCALENDAR
VERSION:2.0
PRODID:-//eventon.com NONSGML v1.0//EN
CALSCALE:GREGORIAN
METHOD:PUBLISH
BEGIN:VEVENT
UID:69ea423b7bd29
DTSTAMP:20260423T160059Z
DTSTART:20260428T140000Z
DTEND:20260428T190000Z
LOCATION:Cumberland County High School 660 Stanley Street
SUMMARY:ANNUAL GERANIUM AND BOSTON FERN SALE
DESCRIPTION:\nhttps://3bmedianews.com/events/annual-geranium-and-boston-fer
 n-sale-1/var/ri-1.l-L1
URL:https://3bmedianews.com/events/annual-geranium-and-boston-fern-sale-1/var/ri-1.l-L1
END:VEVENT
END:VCALENDAR