BEGIN:VCALENDAR
VERSION:2.0
PRODID:-//eventon.com NONSGML v1.0//EN
CALSCALE:GREGORIAN
METHOD:PUBLISH
BEGIN:VEVENT
UID:69ea3780e4662
DTSTAMP:20260423T151512Z
DTSTART:20260430T130000Z
DTEND:20260430T170000Z
LOCATION:Village Green Mall 126 Stonehenge Dr\,  Crossville\,  TN 38558
SUMMARY:ANNUAL GERANIUM AND BOSTON FERN SALE (VILLAGE GREEN MALL)
DESCRIPTION:\nhttps://3bmedianews.com/events/annual-geranium-and-boston-fer
 n-sale-village-green-mall-1/
URL:https://3bmedianews.com/events/annual-geranium-and-boston-fern-sale-village-green-mall-1/
END:VEVENT
END:VCALENDAR