BEGIN:VCALENDAR
VERSION:2.0
PRODID:-//eventon.com NONSGML v1.0//EN
CALSCALE:GREGORIAN
METHOD:PUBLISH
BEGIN:VEVENT
UID:69ea42260ef0a
DTSTAMP:20260423T160038Z
DTSTART:20260501T130000Z
DTEND:20260501T170000Z
LOCATION:Village Green Mall 126 Stonehenge Dr\,  Crossville\,  TN 38558
SUMMARY:ANNUAL GERANIUM AND BOSTON FERN SALE (VILLAGE GREEN MALL)
DESCRIPTION:\nhttps://3bmedianews.com/events/annual-geranium-and-boston-fer
 n-sale-village-green-mall-1/var/ri-1.l-L1
URL:https://3bmedianews.com/events/annual-geranium-and-boston-fern-sale-village-green-mall-1/var/ri-1.l-L1
END:VEVENT
END:VCALENDAR