BEGIN:VCALENDAR
VERSION:2.0
PRODID:-//eventon.com NONSGML v1.0//EN
CALSCALE:GREGORIAN
METHOD:PUBLISH
BEGIN:VEVENT
UID:69e6be3aa7786
DTSTAMP:20260421T000058Z
DTSTART:20260424T213000Z
DTEND:20260424T233000Z
LOCATION:Roane State Community College (Oak Ridge Campus) 701 Briarcliff Ave
SUMMARY:ADULT LEARNER EXPO
DESCRIPTION:Roane State will host an Adult Learner Expo this week at its Oa
 k Ridge campus on April 24 from 4:30 to 6:30 p.m. Eastern. The event is des
 igned for working adults exploring higher‐education options\,  with infor
 mation on academic programs\,  workforce training\,  and resources to help 
 navigate college. Staff will address[..]\nhttps://3bmedianews.com/events/ad
 ult-learner-expo/
URL:https://3bmedianews.com/events/adult-learner-expo/
END:VEVENT
END:VCALENDAR