BEGIN:VCALENDAR
VERSION:2.0
PRODID:-//eventon.com NONSGML v1.0//EN
CALSCALE:GREGORIAN
METHOD:PUBLISH
BEGIN:VEVENT
UID:69eb7f5fc010a
DTSTAMP:20260424T143407Z
DTSTART:20260427T230000Z
DTEND:20260428T045900Z
LOCATION:Kingston City Park 333 W Race St\,  Kingston\,  TN 37763
SUMMARY:ROANE COUNTY HIGH SCHOOL BASS FISHING SIGNUPS
DESCRIPTION:Roane County High School Bass Fishing Team The Kingston High Sc
 hool / Junior High Fishing Team is looking for students who are interested 
 in joining for the 2026-2027 season. If you enjoy fishing or want to learn\
 ,  this is a great opportunity to be part of a team and compete.[..]\nhttps
 ://3bmedianews.com/events/roane-county-high-school-bass-fishing-signups/
URL:https://3bmedianews.com/events/roane-county-high-school-bass-fishing-signups/
END:VEVENT
END:VCALENDAR